BEGIN:VCALENDAR
VERSION:2.0
PRODID:-//DMSG-Selbsthilfegruppe Grünstadt - ECPv6.15.18//NONSGML v1.0//EN
CALSCALE:GREGORIAN
METHOD:PUBLISH
X-WR-CALNAME:DMSG-Selbsthilfegruppe Grünstadt
X-ORIGINAL-URL:https://gruenstadt.dmsg-rlp.de
X-WR-CALDESC:Veranstaltungen für DMSG-Selbsthilfegruppe Grünstadt
REFRESH-INTERVAL;VALUE=DURATION:PT1H
X-Robots-Tag:noindex
X-PUBLISHED-TTL:PT1H
BEGIN:VTIMEZONE
TZID:Europe/Berlin
BEGIN:DAYLIGHT
TZOFFSETFROM:+0100
TZOFFSETTO:+0200
TZNAME:CEST
DTSTART:20230326T010000
END:DAYLIGHT
BEGIN:STANDARD
TZOFFSETFROM:+0200
TZOFFSETTO:+0100
TZNAME:CET
DTSTART:20231029T010000
END:STANDARD
BEGIN:DAYLIGHT
TZOFFSETFROM:+0100
TZOFFSETTO:+0200
TZNAME:CEST
DTSTART:20240331T010000
END:DAYLIGHT
BEGIN:STANDARD
TZOFFSETFROM:+0200
TZOFFSETTO:+0100
TZNAME:CET
DTSTART:20241027T010000
END:STANDARD
BEGIN:DAYLIGHT
TZOFFSETFROM:+0100
TZOFFSETTO:+0200
TZNAME:CEST
DTSTART:20250330T010000
END:DAYLIGHT
BEGIN:STANDARD
TZOFFSETFROM:+0200
TZOFFSETTO:+0100
TZNAME:CET
DTSTART:20251026T010000
END:STANDARD
END:VTIMEZONE
BEGIN:VEVENT
DTSTART;TZID=Europe/Berlin:20240413T170000
DTEND;TZID=Europe/Berlin:20240413T190000
DTSTAMP:20260423T084924
CREATED:20240413T090747Z
LAST-MODIFIED:20240413T090747Z
UID:529-1713027600-1713034800@gruenstadt.dmsg-rlp.de
SUMMARY:Burger essen
DESCRIPTION:Wir treffen uns zum Burger und Bier im Café Lebensreich
URL:https://gruenstadt.dmsg-rlp.de/event/burger-essen/
LOCATION:Bistro Lebensreich\, in der Haarschnur 46\, in der Haarschnur 46\, 67269 Grünstadt
END:VEVENT
END:VCALENDAR