BEGIN:VCALENDAR
VERSION:2.0
PRODID:-//DMSG-Selbsthilfegruppe Grünstadt - ECPv6.15.20//NONSGML v1.0//EN
CALSCALE:GREGORIAN
METHOD:PUBLISH
X-ORIGINAL-URL:https://gruenstadt.dmsg-rlp.de
X-WR-CALDESC:Veranstaltungen für DMSG-Selbsthilfegruppe Grünstadt
REFRESH-INTERVAL;VALUE=DURATION:PT1H
X-Robots-Tag:noindex
X-PUBLISHED-TTL:PT1H
BEGIN:VTIMEZONE
TZID:Europe/Berlin
BEGIN:DAYLIGHT
TZOFFSETFROM:+0100
TZOFFSETTO:+0200
TZNAME:CEST
DTSTART:20210328T010000
END:DAYLIGHT
BEGIN:STANDARD
TZOFFSETFROM:+0200
TZOFFSETTO:+0100
TZNAME:CET
DTSTART:20211031T010000
END:STANDARD
BEGIN:DAYLIGHT
TZOFFSETFROM:+0100
TZOFFSETTO:+0200
TZNAME:CEST
DTSTART:20220327T010000
END:DAYLIGHT
BEGIN:STANDARD
TZOFFSETFROM:+0200
TZOFFSETTO:+0100
TZNAME:CET
DTSTART:20221030T010000
END:STANDARD
BEGIN:DAYLIGHT
TZOFFSETFROM:+0100
TZOFFSETTO:+0200
TZNAME:CEST
DTSTART:20230326T010000
END:DAYLIGHT
BEGIN:STANDARD
TZOFFSETFROM:+0200
TZOFFSETTO:+0100
TZNAME:CET
DTSTART:20231029T010000
END:STANDARD
END:VTIMEZONE
BEGIN:VEVENT
DTSTART;TZID=Europe/Berlin:20221012T173000
DTEND;TZID=Europe/Berlin:20221012T183000
DTSTAMP:20260424T090519
CREATED:20221106T165411Z
LAST-MODIFIED:20221106T165411Z
UID:456-1665595800-1665599400@gruenstadt.dmsg-rlp.de
SUMMARY:Vorstellung des Rollstuhls Ergoflix
DESCRIPTION:Ein netter Vertreter stellt uns den Rollstuhl vor. Dieser ist zusammenklappbar und er fährt elektronisch
URL:https://gruenstadt.dmsg-rlp.de/event/vorstellung-des-rollstuhls-ergoflix/
LOCATION:Kita Sausenheim\, in den Maulgärten 2a\, 67269 Grünstadt
END:VEVENT
END:VCALENDAR