BEGIN:VCALENDAR
VERSION:2.0
PRODID:-//DMSG-Selbsthilfegruppe Grünstadt - ECPv6.15.20//NONSGML v1.0//EN
CALSCALE:GREGORIAN
METHOD:PUBLISH
X-ORIGINAL-URL:https://gruenstadt.dmsg-rlp.de
X-WR-CALDESC:Veranstaltungen für DMSG-Selbsthilfegruppe Grünstadt
REFRESH-INTERVAL;VALUE=DURATION:PT1H
X-Robots-Tag:noindex
X-PUBLISHED-TTL:PT1H
BEGIN:VTIMEZONE
TZID:Europe/Berlin
BEGIN:DAYLIGHT
TZOFFSETFROM:+0100
TZOFFSETTO:+0200
TZNAME:CEST
DTSTART:20210328T010000
END:DAYLIGHT
BEGIN:STANDARD
TZOFFSETFROM:+0200
TZOFFSETTO:+0100
TZNAME:CET
DTSTART:20211031T010000
END:STANDARD
BEGIN:DAYLIGHT
TZOFFSETFROM:+0100
TZOFFSETTO:+0200
TZNAME:CEST
DTSTART:20220327T010000
END:DAYLIGHT
BEGIN:STANDARD
TZOFFSETFROM:+0200
TZOFFSETTO:+0100
TZNAME:CET
DTSTART:20221030T010000
END:STANDARD
BEGIN:DAYLIGHT
TZOFFSETFROM:+0100
TZOFFSETTO:+0200
TZNAME:CEST
DTSTART:20230326T010000
END:DAYLIGHT
BEGIN:STANDARD
TZOFFSETFROM:+0200
TZOFFSETTO:+0100
TZNAME:CET
DTSTART:20231029T010000
END:STANDARD
END:VTIMEZONE
BEGIN:VEVENT
DTSTART;TZID=Europe/Berlin:20220521T090000
DTEND;TZID=Europe/Berlin:20220521T120000
DTSTAMP:20260424T175313
CREATED:20220507T104146Z
LAST-MODIFIED:20220507T110054Z
UID:413-1653123600-1653134400@gruenstadt.dmsg-rlp.de
SUMMARY:Frühstück!
DESCRIPTION:Wir frühstücken wieder! Am 21. Mai 2022 ab 9 Uhr im Bistro der Lebenshilfe\, Anmeldung bitte bei der Gruppenleitung
URL:https://gruenstadt.dmsg-rlp.de/event/fruehstueck/
END:VEVENT
END:VCALENDAR